BEGIN:VCALENDAR
VERSION:2.0
PRODID:-//Viestintä ja kehitys -säätiö - ECPv6.15.20//NONSGML v1.0//EN
CALSCALE:GREGORIAN
METHOD:PUBLISH
X-WR-CALNAME:Viestintä ja kehitys -säätiö
X-ORIGINAL-URL:https://vikes.fi
X-WR-CALDESC:Tapahtumat Viestintä ja kehitys -säätiö
REFRESH-INTERVAL;VALUE=DURATION:PT1H
X-Robots-Tag:noindex
X-PUBLISHED-TTL:PT1H
BEGIN:VTIMEZONE
TZID:Europe/Helsinki
BEGIN:DAYLIGHT
TZOFFSETFROM:+0200
TZOFFSETTO:+0300
TZNAME:EEST
DTSTART:20240331T010000
END:DAYLIGHT
BEGIN:STANDARD
TZOFFSETFROM:+0300
TZOFFSETTO:+0200
TZNAME:EET
DTSTART:20241027T010000
END:STANDARD
BEGIN:DAYLIGHT
TZOFFSETFROM:+0200
TZOFFSETTO:+0300
TZNAME:EEST
DTSTART:20250330T010000
END:DAYLIGHT
BEGIN:STANDARD
TZOFFSETFROM:+0300
TZOFFSETTO:+0200
TZNAME:EET
DTSTART:20251026T010000
END:STANDARD
BEGIN:DAYLIGHT
TZOFFSETFROM:+0200
TZOFFSETTO:+0300
TZNAME:EEST
DTSTART:20260329T010000
END:DAYLIGHT
BEGIN:STANDARD
TZOFFSETFROM:+0300
TZOFFSETTO:+0200
TZNAME:EET
DTSTART:20261025T010000
END:STANDARD
END:VTIMEZONE
BEGIN:VEVENT
DTSTART;TZID=Europe/Helsinki:20250502T130000
DTEND;TZID=Europe/Helsinki:20250502T170000
DTSTAMP:20260422T032640
CREATED:20250408T070337Z
LAST-MODIFIED:20250430T081035Z
UID:18390-1746190800-1746205200@vikes.fi
SUMMARY:Kansainvälinen lehdistönvapauden päivä
DESCRIPTION:Lämpimästi tervetuloa viettämään kansainvälistä lehdistönvapauden päivää Median museo ja arkisto Merkkiin perjantaina 2. toukokuuta 2025 klo 13–16.45. \nTapahtuma järjestetään yhteistyössä Viestintä ja kehitys -säätiön\, Journalistiliiton\, Toimittajat ilman rajoja Suomen\, Suomen IPI:n\, Suomen PENin ja HS-säätiön kanssa. Tilaisuus on osa UNESCOn kansainvälisen lehdistönvapauden päivän juhlintaa. \nOhjelma: \n13.00 Tervetuliaissanat\, Helsingin Sanomain Säätiön yliasiamies Laura Saarikoski\, Vikesin mediakasvatuksen asiantuntija Kristiina Markkanen ja Suomen IPI:n puheenjohtaja Anne Leppäjärvi  \n13.10–13.20 \nEtyj:n uuden Mediavaltuutetun Jan Braathun videotervehdys (in english) \n13.20–14.10  \nLehdistönvapausindeksi 2025\, Toimittajat ilman rajoja -järjestön Suomen osaston \npuheenjohtaja Kaius Niemi   \n-Kommenttipuheenvuoro: Autoritääristen hallintojen nousu uhkana länsimaissa\,\nSuomen Unesco-toimikunnan puheenjohtaja\, maailmanpolitiikan professori Teivo Teivainen  \n-Paneelikeskustelu:   \nJulkisen sanan neuvoston puheenjohtaja Eero Hyvönen    \nHelsingin Sanomien journalistinen kehitysjohtaja Esa Mäkinen  \nYlen syventävän journalismin päätoimittaja Krista Taubert  \nSuomen Unesco-toimikunnan puheenjohtaja\, maailmanpolitiikan professori Teivo Teivainen  \n14.10–14.40   \nAuthoritarian state and Journalism: the case of Belarus (in English) \n-Varsovaan paennut Valko-Venäjän PENin varapuheenjohtaja\, runoilija Taciana Niadbaj   \n-Vilnaan paennut toimittaja ja politiikan tutkija Hanna Liubakova  \n14.40–14.50  \nOpiskelijoiden vetoomus   \n14.50–15.00  \nIPI Suomen sananvapauspalkinnon jakaminen ja palkitun puhe  \nVäliaika\, kahvi- ja kuohuviinitarjoilu museon Painokellarissa  \n 15.15–16.45 Polygraf-tuotantoyhtiö\, ohjaaja Arthur Franck   \n–The Helsinki Effect\, ETYK-elokuva (with English subtitels) \nTilaisuuden juontavat Laura Saarikoski ja Kristiina Markkanen.  \nVp. 25.4.2025 mennessä osoitteessa: https://hssaatio.typeform.com/to/iAXmzW6z  
URL:https://vikes.fi/event/kansainvalinen-lehdistonvapauden-paiva_2025
LOCATION:Merkki\, Ludviginkatu 2–4\, Helsinki\, Suomi
CATEGORIES:Lehdistönvapauden päivä
ATTACH;FMTTYPE=image/png:https://vikes.fi/wp-content/uploads/2025/04/LVP-Banneri-2.png
END:VEVENT
END:VCALENDAR