BEGIN:VCALENDAR
VERSION:2.0
PRODID:-//Viestintä ja kehitys -säätiö - ECPv6.15.20//NONSGML v1.0//EN
CALSCALE:GREGORIAN
METHOD:PUBLISH
X-WR-CALNAME:Viestintä ja kehitys -säätiö
X-ORIGINAL-URL:https://vikes.fi
X-WR-CALDESC:Tapahtumat Viestintä ja kehitys -säätiö
REFRESH-INTERVAL;VALUE=DURATION:PT1H
X-Robots-Tag:noindex
X-PUBLISHED-TTL:PT1H
BEGIN:VTIMEZONE
TZID:Europe/Helsinki
BEGIN:DAYLIGHT
TZOFFSETFROM:+0200
TZOFFSETTO:+0300
TZNAME:EEST
DTSTART:20220327T010000
END:DAYLIGHT
BEGIN:STANDARD
TZOFFSETFROM:+0300
TZOFFSETTO:+0200
TZNAME:EET
DTSTART:20221030T010000
END:STANDARD
BEGIN:DAYLIGHT
TZOFFSETFROM:+0200
TZOFFSETTO:+0300
TZNAME:EEST
DTSTART:20230326T010000
END:DAYLIGHT
BEGIN:STANDARD
TZOFFSETFROM:+0300
TZOFFSETTO:+0200
TZNAME:EET
DTSTART:20231029T010000
END:STANDARD
BEGIN:DAYLIGHT
TZOFFSETFROM:+0200
TZOFFSETTO:+0300
TZNAME:EEST
DTSTART:20240331T010000
END:DAYLIGHT
BEGIN:STANDARD
TZOFFSETFROM:+0300
TZOFFSETTO:+0200
TZNAME:EET
DTSTART:20241027T010000
END:STANDARD
END:VTIMEZONE
BEGIN:VEVENT
DTSTART;TZID=Europe/Helsinki:20230308T120000
DTEND;TZID=Europe/Helsinki:20230308T140000
DTSTAMP:20260422T134932
CREATED:20221209T125030Z
LAST-MODIFIED:20230310T082228Z
UID:13154-1678276800-1678284000@vikes.fi
SUMMARY:Tietoiskuja lehdistönvapaudesta: Naistoimittajat konfliktin keskellä
DESCRIPTION:Millaista on olla nainen\, journalisti ja töissä keskellä sotaa tai konfliktia? Ukrainan journalisteista tuli kertaheitolla sotareporttereita. Miten sukupuoli vaikuttaa työhön sotajournalistina? Mukana keskustelussa toiminnanjohtaja Oksana Brovko Ukrainasta Association of Independent Regional Publishers of Ukraine -järjestöstä (AIRPU)\, joka muun muassa tukee ukrainalaisia naistoimittajia. Entä mitä kuuluu naistoimittajille Afganistanissa nyt\, noin puolitoista vuotta Talebanin valtaannousun jälkeen? Keskustelemassa afganistanilaisia naistoimittajia kouluttanut toimittaja ja dokumentaristi Kirsi Mattila. \nVikes ja Journalistiliitto järjestävät keskustelutilaisuuden Journalistiliiton tiloissa. Voit seurata tilaisuutta myös striiminä. Tilaisuus on osa Tietoiskuja lehdistönvapaudesta -sarjaa\, jossa seurataan toimittajien ja median tilaa eri puolilla maailmaa. 
URL:https://vikes.fi/event/tietoisku-naistoimittajat-sodan-keskella
LOCATION:Journalistiliitto\, Säästöpankinranta 2 A 7. krs\, Helsinki\, 00530
ATTACH;FMTTYPE=image/jpeg:https://vikes.fi/wp-content/uploads/2023/01/Tietoiskuja_Ukraina2.jpg
END:VEVENT
BEGIN:VEVENT
DTSTART;TZID=Europe/Helsinki:20230322T160000
DTEND;TZID=Europe/Helsinki:20230322T173000
DTSTAMP:20260422T134932
CREATED:20230118T081412Z
LAST-MODIFIED:20230322T121307Z
UID:15131-1679500800-1679506200@vikes.fi
SUMMARY:Tietoiskuja lehdistönvapaudesta: Informaatiosodankäynnin sudenkuopat – ihmisiä vai demoneita?
DESCRIPTION:Millaista informaatiosotaa Venäjä ja Ukraina käyvät? Entä Suomi? \nSodan ensimmäinen uhri on totuus\, kuuluu lentävä lause\, jonka lausui tiettävästi yhdysvaltalaissenaattori Hiram Johnson ensimmäisen maailmansodan aikana. Vaikka satelliittikuvaus ja reaaliaikaiset videot ovat mullistaneet sotatapahtumien seurannan\, on Johnsonin lause valitettavan totta yli sata vuotta myöhemminkin. Internetin myötä mahdollisuudet vaihtoehtoisten tulkintojen ja suoranaisten valheiden syöttämiseen ohi perinteisen median ovat räjähtäneet. \nMiten toimittaja erottaa toden propagandasta? Keneen voi luottaa ja keneen ei? Mahtuuko Nato-maahan vain yksi totuus? \nKeskustelemassa sotatieteilijä Ilmari Käihkö ja ulkomaantoimittaja Pekka Mykkänen. Keskustelun vetää journalisti Juha Merimaa. \nVikes ja Journalistiliitto järjestävät keskustelutilaisuuden Journalistiliiton tiloissa. Voit seurata tilaisuutta myös striiminä. Tilaisuus on osa Tietoiskuja lehdistönvapaudesta -sarjaa\, jossa seurataan toimittajien ja median tilaa eri puolilla maailmaa.
URL:https://vikes.fi/event/tietoiskuja-lehdistonvapaudesta-informaatiosodankaynnin-sudenkuopat-ihmisia-vai-demoneita
LOCATION:Journalistiliitto\, Säästöpankinranta 2 A 7. krs\, Helsinki\, 00530
ATTACH;FMTTYPE=image/jpeg:https://vikes.fi/wp-content/uploads/2023/01/Tietoiskuja_Ukraina.jpg
END:VEVENT
END:VCALENDAR