BEGIN:VCALENDAR
VERSION:2.0
PRODID:-//Viestintä ja kehitys -säätiö - ECPv6.15.20//NONSGML v1.0//EN
CALSCALE:GREGORIAN
METHOD:PUBLISH
X-WR-CALNAME:Viestintä ja kehitys -säätiö
X-ORIGINAL-URL:https://vikes.fi
X-WR-CALDESC:Tapahtumat Viestintä ja kehitys -säätiö
REFRESH-INTERVAL;VALUE=DURATION:PT1H
X-Robots-Tag:noindex
X-PUBLISHED-TTL:PT1H
BEGIN:VTIMEZONE
TZID:Europe/Helsinki
BEGIN:DAYLIGHT
TZOFFSETFROM:+0200
TZOFFSETTO:+0300
TZNAME:EEST
DTSTART:20220327T010000
END:DAYLIGHT
BEGIN:STANDARD
TZOFFSETFROM:+0300
TZOFFSETTO:+0200
TZNAME:EET
DTSTART:20221030T010000
END:STANDARD
BEGIN:DAYLIGHT
TZOFFSETFROM:+0200
TZOFFSETTO:+0300
TZNAME:EEST
DTSTART:20230326T010000
END:DAYLIGHT
BEGIN:STANDARD
TZOFFSETFROM:+0300
TZOFFSETTO:+0200
TZNAME:EET
DTSTART:20231029T010000
END:STANDARD
BEGIN:DAYLIGHT
TZOFFSETFROM:+0200
TZOFFSETTO:+0300
TZNAME:EEST
DTSTART:20240331T010000
END:DAYLIGHT
BEGIN:STANDARD
TZOFFSETFROM:+0300
TZOFFSETTO:+0200
TZNAME:EET
DTSTART:20241027T010000
END:STANDARD
END:VTIMEZONE
BEGIN:VEVENT
DTSTART;TZID=Europe/Helsinki:20230124T170000
DTEND;TZID=Europe/Helsinki:20230124T183000
DTSTAMP:20260423T025709
CREATED:20230118T070630Z
LAST-MODIFIED:20230118T073527Z
UID:15114-1674579600-1674585000@vikes.fi
SUMMARY:Kehitysjournalismin palkinnon julkistus
DESCRIPTION:Journalismi auttaa parhaimmillaan ymmärtämään maailmaa ja sen monimutkaisia ilmiöitä. Vuonna 2022 Kehitysjournalismin palkinnon teemana ovat tytöt\, naiset ja sukupuolten välinen tasa-arvo. \nItsenäinen raati valitsi viisi kärkiehdokasta\, jotka kisaavat palkinnosta. Tule Päivälehden museoon kuulemaan\, kuka voittaa palkinnon\, ja keille annetaan kunniamainintoja. \nViisi kärkiehdokasta ovat: \nAdios Honduras\, Ivar Heinmaa\, Pertti Pesonen & Jouni Koponen / Yle Ulkolinja\nVisuaalisesti ja sisällöllisesti vaikuttava kokonaisuus\, josta näkee\, että tekijät ovat seuranneet aihetta pitkään. Adios Honduras nostaa esiin näkökulman\, jota ei usein kuulla: dokumentissa kuullaan pois muuttaneiden henkilöiden perheitä\, läheisiä ja muita Hondurasiin jääneitä. Dokumentissa on vahva läsnäolo\, se vie katsojansa Keski-Amerikkaan ja auttaa ymmärtämään muuttoliikettä ja naisten asemaa entistä paremmin. \nAfgaaninaisen katse -kokonaisuus\, Learning together -verkosto / Suomen Kuvalehti\nAfganistanilaisten naistoimittajien blogi on valtava ponnistus\, jossa ääneen pääsevät naiset itse\, mediasisällön tekijöinä eikä vain kohteina. Afganistanin naisjournalistit valitsevat itse näkökulmat ja sen\, miten ja mitä heistä puhutaan. \nAfganistanilaisten ja suomalaisten journalistien yhteistyönä tuotettu kokonaisuus on tärkeä journalistinen teko etenkin nyt\, kun Afganistanissa naiset halutaan vaientaa ja sulkea julkisesta keskustelusta. On liki uskomatonta\, että rohkeat naisjournalistit jatkavat työtään ja nostavat äänensä kuuluviin niinkin vihamielisessä ympäristössä. \nAfganistan-sarja\, Zahra Karimy ja työryhmä / Yle Kioski / Tiktok\nOn todella tärkeää\, että lapsille ja nuorille tehdään tällaista perehtynyttä sisältöä niihin kanaviin\, missä nuoret ovat. Yle Kioskin Tiktok-sarja Afganistanista ja sen asioista on kerännyt satoja tuhansia katsojia ja tuonut maailmaa tutuksi nuorille\, jotka muuten eivät Afganistania välttämättä seuraisi. Laadukas sisältö voisi kiinnostaa aikuisiakin. Journalisti Zahra Karimy osaa paikallisia kieliä ja tuntee kulttuuria\, mikä tuo sisältöön syvyyttä. \nKenian sateenkaaren alla\, Hanna Nordenswan & Liselott Lindström / Yle Ulkolinja\nSukupuoli- ja seksuaalivähemmistöjen elämää valottava dokumentti näyttää niiden ihmisten elämää\, joiden asema on kaikkein vaikein. Visuaalisestikin kunnianhimoinen dokumentti muistuttaa\, miten ihmiset voivat olla syrjittyjä monilla eri perusteilla\, ja silti he ovat aktiivisia toimijoita eivätkä vain uhreja. Kerronta on elävää\, vetoavaa ja kohteitansa kunnioittavaa. Toinen tekijöistä oli myös raadin jäsen\, joten hän jääväsi itsensä keskustelusta tältä osin. \nPoliisin pako\, Kaisa Rautaheimo / Helsingin Sanomat\nPoliisin pako on hienosti kirjoitettu juttu: kepeä ja helposti luettava henkilöjuttu\, jolla on oivaltava katse myös kehitysyhteistyön ongelmiin\, etenkin siihen\, miten paikallista toimintaympäristöä ei usein tunneta ja huomioida riittävästi. Jutussa on aitoa pohdintaa siitä\, mikä kehitysyhteistyössä on mennyt pieleen\, ja hyvän kritiikin ohella juttu tarjoaa paljon ratkaisuja. Tekijä on seurannut teemaa pitkään\, mikä tuo juttuun syvyyttä. \nPoliisin pako on hyvä esimerkki siitä\, miksi on tärkeää\, että kehitysjournalismia tekevät muutkin kuin alan järjestöt: riippumaton journalisti voi käsitellä myös kipupisteitä laadukkaasti ja rakentavasti. \nSuomen Punainen Risti\, Viestintä ja kehitys -säätiö Vikes\, Helsingin Sanomain Säätiö ja Journalistiliitto ovat perustaneet palkinnon nostaakseen esiin laadukkaita ja innovatiivisia globaaleja teemoja käsitteleviä journalistisia julkaisuja ja kasvattaakseen suomalaisen kehitysjournalismin näkyvyyttä ja arvostusta.
URL:https://vikes.fi/event/kehitysjournalismin-palkinnon-julkistus
LOCATION:Päivälehden museo\, Ludviginkatu 2-4\, Helsinki\, 00130\, Suomi
ATTACH;FMTTYPE=image/jpeg:https://vikes.fi/wp-content/uploads/2019/05/lehdistönvapaus-yleiso.jpg
END:VEVENT
END:VCALENDAR