BEGIN:VCALENDAR
VERSION:2.0
PRODID:-//Viestintä ja kehitys -säätiö - ECPv6.15.20//NONSGML v1.0//EN
CALSCALE:GREGORIAN
METHOD:PUBLISH
X-ORIGINAL-URL:https://vikes.fi
X-WR-CALDESC:Tapahtumat Viestintä ja kehitys -säätiö
REFRESH-INTERVAL;VALUE=DURATION:PT1H
X-Robots-Tag:noindex
X-PUBLISHED-TTL:PT1H
BEGIN:VTIMEZONE
TZID:Europe/Helsinki
BEGIN:DAYLIGHT
TZOFFSETFROM:+0200
TZOFFSETTO:+0300
TZNAME:EEST
DTSTART:20220327T010000
END:DAYLIGHT
BEGIN:STANDARD
TZOFFSETFROM:+0300
TZOFFSETTO:+0200
TZNAME:EET
DTSTART:20221030T010000
END:STANDARD
BEGIN:DAYLIGHT
TZOFFSETFROM:+0200
TZOFFSETTO:+0300
TZNAME:EEST
DTSTART:20230326T010000
END:DAYLIGHT
BEGIN:STANDARD
TZOFFSETFROM:+0300
TZOFFSETTO:+0200
TZNAME:EET
DTSTART:20231029T010000
END:STANDARD
BEGIN:DAYLIGHT
TZOFFSETFROM:+0200
TZOFFSETTO:+0300
TZNAME:EEST
DTSTART:20240331T010000
END:DAYLIGHT
BEGIN:STANDARD
TZOFFSETFROM:+0300
TZOFFSETTO:+0200
TZNAME:EET
DTSTART:20241027T010000
END:STANDARD
END:VTIMEZONE
BEGIN:VEVENT
DTSTART;TZID=Europe/Helsinki:20230503T160000
DTEND;TZID=Europe/Helsinki:20230503T183000
DTSTAMP:20260421T144821
CREATED:20230118T091911Z
LAST-MODIFIED:20230503T073840Z
UID:15148-1683129600-1683138600@vikes.fi
SUMMARY:Lehdistönvapauden päivän seminaari: Miten käy demokratialle?
DESCRIPTION:Toukokuun 3. päivä on kansainvälinen lehdistönvapauden päivä\, tule juhlistamaan sitä meidän kanssamme!  \nVikes\, Journalistiliitto\, Toimittajat ilman rajoja Suomi ja Suomen Unesco-toimikunta järjestävät seminaarin Päivälehden museon auditoriossa. Varsinaisen seminaariosuuden jälkeen on myös varattu aikaa vapaalle seurustelulle.  \nILMOITTAUTUMINEN PAIKAN PÄÄLLE ON PÄÄTTYNYT. Tilaisuutta voi seurata myös livestriiminä osoitteessa: https://kepit.tv/#/c/vikes/e/AVEH6VAR8H \nOHJELMA:  \n\nTuoreen lehdistönvapausindeksin esittely\, Yrsa Grüne-Luoma\, Toimittajat ilman rajoja Suomi -järjestön puheenjohtaja\nHow to practice journalism under authoritarian regimes? Carlos Dada\, elsalvadorilainen\, nyt Hollannissa asuva päätoimittaja\, joka on palkittu vuonna 2022 World Press Freedom Hero Awardilla.\nMiksi autokratiat jyräävät demokratiat? -paneelikeskustelu. Puhujina Teivo Teivainen\, maailmanpolitiikan professori\, HY / Unesco-toimikunnan puheenjohtaja\, Emilia Palonen\, politiikantutkija\, HY ja Pertti Pesonen\, ulkomaantoimittaja\, Yle.\n\nTilaisuuden juontaa toimittaja Rosa Kettumäki.
URL:https://vikes.fi/event/lehdistonvapauden-paivan-seminaari
LOCATION:Päivälehden museo\, Ludviginkatu 2-4\, Helsinki\, 00130\, Suomi
ATTACH;FMTTYPE=image/jpeg:https://vikes.fi/wp-content/uploads/2023/01/Tietoiskuja_KeskiAm.jpg
END:VEVENT
END:VCALENDAR