BEGIN:VCALENDAR
VERSION:2.0
PRODID:-//Viestintä ja kehitys -säätiö - ECPv6.15.20//NONSGML v1.0//EN
CALSCALE:GREGORIAN
METHOD:PUBLISH
X-WR-CALNAME:Viestintä ja kehitys -säätiö
X-ORIGINAL-URL:https://vikes.fi
X-WR-CALDESC:Tapahtumat Viestintä ja kehitys -säätiö
REFRESH-INTERVAL;VALUE=DURATION:PT1H
X-Robots-Tag:noindex
X-PUBLISHED-TTL:PT1H
BEGIN:VTIMEZONE
TZID:Europe/Helsinki
BEGIN:DAYLIGHT
TZOFFSETFROM:+0200
TZOFFSETTO:+0300
TZNAME:EEST
DTSTART:20220327T010000
END:DAYLIGHT
BEGIN:STANDARD
TZOFFSETFROM:+0300
TZOFFSETTO:+0200
TZNAME:EET
DTSTART:20221030T010000
END:STANDARD
BEGIN:DAYLIGHT
TZOFFSETFROM:+0200
TZOFFSETTO:+0300
TZNAME:EEST
DTSTART:20230326T010000
END:DAYLIGHT
BEGIN:STANDARD
TZOFFSETFROM:+0300
TZOFFSETTO:+0200
TZNAME:EET
DTSTART:20231029T010000
END:STANDARD
BEGIN:DAYLIGHT
TZOFFSETFROM:+0200
TZOFFSETTO:+0300
TZNAME:EEST
DTSTART:20240331T010000
END:DAYLIGHT
BEGIN:STANDARD
TZOFFSETFROM:+0300
TZOFFSETTO:+0200
TZNAME:EET
DTSTART:20241027T010000
END:STANDARD
END:VTIMEZONE
BEGIN:VEVENT
DTSTART;TZID=Europe/Helsinki:20230419T160000
DTEND;TZID=Europe/Helsinki:20230419T180000
DTSTAMP:20260422T084855
CREATED:20230118T084117Z
LAST-MODIFIED:20230404T122345Z
UID:15138-1681920000-1681927200@vikes.fi
SUMMARY:Tietoiskuja lehdistönvapaudesta: Suomi\, Ruotsi\, Nato ja sananvapaus
DESCRIPTION:Miten media on käsitellyt Nato-prosessia meillä\, entä Ruotsissa? Mitkä tahot ja näkökulmat nousevat esiin? Ja mikä jää sanomatta? Mistä erot kertovat? Keskustelemassa professori\, mediatutkija Anu Koivunen sekä Iltalehden toimittaja Lauri Nurmi ja ruotsalaisen Sydsvenskan-lehden toimittaja\, tietokirjailija Kalle Kniivilä. Vetäjänä Journalistiliiton kansainvälisten asioiden asiantuntija Salla Nazarenko.  \nVikes ja Journalistiliitto järjestävät keskustelutilaisuuden Journalistiliiton tiloissa. Voit seurata tilaisuutta myös striiminä. Tilaisuus on osa Tietoiskuja lehdistönvapaudesta -sarjaa\, jossa seurataan toimittajien ja median tilaa eri puolilla maailmaa. \n\nIlmoittautumislomake
URL:https://vikes.fi/event/tietoiskuja-lehdistonvapaudesta-suomi-ruotsi-nato-ja-sananvapaus
LOCATION:Journalistiliitto\, Säästöpankinranta 2 A 7. krs\, Helsinki\, 00530
ATTACH;FMTTYPE=image/jpeg:https://vikes.fi/wp-content/uploads/2023/01/pexels-caleb-oquendo-2918590-scaled-e1675171821758.jpg
END:VEVENT
END:VCALENDAR