BEGIN:VCALENDAR
VERSION:2.0
PRODID:-//Viestintä ja kehitys -säätiö - ECPv6.15.20//NONSGML v1.0//EN
CALSCALE:GREGORIAN
METHOD:PUBLISH
X-WR-CALNAME:Viestintä ja kehitys -säätiö
X-ORIGINAL-URL:https://vikes.fi/sv
X-WR-CALDESC:Händelser för Viestintä ja kehitys -säätiö
REFRESH-INTERVAL;VALUE=DURATION:PT1H
X-Robots-Tag:noindex
X-PUBLISHED-TTL:PT1H
BEGIN:VTIMEZONE
TZID:Europe/Helsinki
BEGIN:DAYLIGHT
TZOFFSETFROM:+0200
TZOFFSETTO:+0300
TZNAME:EEST
DTSTART:20220327T010000
END:DAYLIGHT
BEGIN:STANDARD
TZOFFSETFROM:+0300
TZOFFSETTO:+0200
TZNAME:EET
DTSTART:20221030T010000
END:STANDARD
BEGIN:DAYLIGHT
TZOFFSETFROM:+0200
TZOFFSETTO:+0300
TZNAME:EEST
DTSTART:20230326T010000
END:DAYLIGHT
BEGIN:STANDARD
TZOFFSETFROM:+0300
TZOFFSETTO:+0200
TZNAME:EET
DTSTART:20231029T010000
END:STANDARD
BEGIN:DAYLIGHT
TZOFFSETFROM:+0200
TZOFFSETTO:+0300
TZNAME:EEST
DTSTART:20240331T010000
END:DAYLIGHT
BEGIN:STANDARD
TZOFFSETFROM:+0300
TZOFFSETTO:+0200
TZNAME:EET
DTSTART:20241027T010000
END:STANDARD
BEGIN:DAYLIGHT
TZOFFSETFROM:+0200
TZOFFSETTO:+0300
TZNAME:EEST
DTSTART:20250330T010000
END:DAYLIGHT
BEGIN:STANDARD
TZOFFSETFROM:+0300
TZOFFSETTO:+0200
TZNAME:EET
DTSTART:20251026T010000
END:STANDARD
BEGIN:DAYLIGHT
TZOFFSETFROM:+0200
TZOFFSETTO:+0300
TZNAME:EEST
DTSTART:20260329T010000
END:DAYLIGHT
BEGIN:STANDARD
TZOFFSETFROM:+0300
TZOFFSETTO:+0200
TZNAME:EET
DTSTART:20261025T010000
END:STANDARD
END:VTIMEZONE
BEGIN:VEVENT
DTSTART;TZID=Europe/Helsinki:20250525T150000
DTEND;TZID=Europe/Helsinki:20250525T160000
DTSTAMP:20260421T003818
CREATED:20250410T114016Z
LAST-MODIFIED:20250516T063616Z
UID:18562-1748185200-1748188800@vikes.fi
SUMMARY:Världen i byn: Vilken är journalistens roll i krig?
DESCRIPTION:Världen är full av konflikter och allt fler människor upplever att strömmen av nyheter om krig är överväldigande. Undvikande av nyheter har blivit allt vanligare\, trots att vi behöver information om världen och människor som bor på andra ställen. Media har dock möjlighet att vara en del av förändringen – media kan förutom skildra krig skapa utrymme för fred.    \nKan journalism främja fred och förbli oberoende? Denna fråga funderar vi på i paneldiskussionen på festivalen Världen i byn\, där Finlands topp utrikeskorrespondenter delar med sig sina erfarenheter av att rapportera om krig och fred.   \nMed i diskussionen:\n  📸 Rauli Virtanen – erfaren utrikeskorrespondent\, fotojournalist och fackboksförfattare som har arbetat runt om i världen i över fem decennier. \n  📰 Katriina Pajari – förman för korrespondenter på Helsingin Sanomat\, tidigare Kina korrespondent och erfaren krigsreporter i Ukraina. \n 🎤 Wali Hashi (moderator) – journalist och Vikes (Stiftelsen för och media och utveckling) projektkoordinator för Somalia landprogrammet\, vars passion är mediers roll i freds byggande.  \nKom med och diskutera\, ställ frågor och reflektera hur journalistik formar vår världsbild och hur vi tillsammans kan bygga medier som främjar möjligheter till fred.  \n🎤Krigsreporter eller fredsjournalist – vilken är journalistens roll i krig?  \n📍 Puhelava\, festivalen Världen i byn\, Södervik\, Helsingfors. \n📅 Söndag 25.5.2025 kl. 15.15–15.40 + 30 minuters uppföljande diskussion i foajén.  \n🎥 Evenemanget streamas av Världen i byn.  \n🔹 Evenemanget är kostandsfritt.
URL:https://vikes.fi/sv/event/festivalen-varlden-i-byn-vilken-ar-journalistens-roll-i-krig
LOCATION:Suvilahti
CATEGORIES:Festivalen Världen i byn
ATTACH;FMTTYPE=image/png:https://vikes.fi/wp-content/uploads/2025/04/Katriina-Pajari-Wali-Hashi-Rauli-Virtanen-1.png
END:VEVENT
BEGIN:VEVENT
DTSTART;TZID=Europe/Helsinki:20250502T130000
DTEND;TZID=Europe/Helsinki:20250502T170000
DTSTAMP:20260421T003818
CREATED:20250408T070337Z
LAST-MODIFIED:20250516T063933Z
UID:18610-1746190800-1746205200@vikes.fi
SUMMARY:Internationella dagen för pressfrihet
DESCRIPTION:Varmt välkommen för att fira den internationella dagen för pressfrihet till Mediernas museum och arkiv Merkki fredagen 2 Maj 2025 kl. 13–16.45.  \nEvenmanget ordnas i samarbete med Vikes (Stiftelsen för media och utveckling)\, Journalistförbundet\, Journalister utan gränser Finland\, IPI Finland\, PEN Finland och HS-stiftelsen. Evenemanget är en del av firandet av UNESCO:s internationella dag för pressfrihet.  \nProgram: \n13.00 Välkomstord av överombudsman på Helsingin Sanomain säätiö Laura Saarikoski\, Vikes expertkunnig i mediefostran Kristiina Markkanen och IPI Finlands ordförande Anne Leppäjärvi  \n13.10–13.20 \nOSSE:s nya Mediarepresentant Jan Braathus videohälsning (in english) \n13.20–14.10  \nPressfrihetsindex 2025\, finska avdelningen av Reportrar utan gränser organisationens \nordförande Kaius Niemi   \n-Inlägg: autoritära regimers expansion i västvärlden som ett hot\,\nordförande för finska Unesco-kommissionen och professor i världspolitik Teivo Teivainen  \n-Paneldiskussion:   \nOrdförande för Opinionsnämnden för massmedier Eero Hyvönen    \nJournalistiska utvecklingsledaren för Helsingin Sanomat Esa Mäkinen  \nChefredaktör för Yle fördjupad journalistik Krista Taubert  \nOrdförande för finska Unesco-kommission och professor i världspolitik Teivo Teivainen  \n14.10–14.40  \nAuthoritarian state and Journalism: the case of Belarus (in English) \nPEN Vit-Rysslands viceordförande och poet Taciana Niadbaj som har flytt till Warszawa   \nJournalist och forskare i politik Hanna Liubakova som har flytt till Vilnius  \n14.40–14.50  \nStuderandens vädjan   \n14.50–15.00  \nUtdelning av IPI Finlands pris för yttrandefrihet och den prisbelöntas tal  \nPaus\, servering av kaffe och skumvin  \n 15.15–16.45 Polygraf-produktionsbolaget\, regissör Arthur Franck   \n–The Helsinki Effect\, KSSE-film (with English subtitels) \nLaura Saarikoski och Kristiina Markkanen fungerar som programledare.  \nRegistrera dig senast 25.4.2025 på adressen: https://hssaatio.typeform.com/to/iAXmzW6z
URL:https://vikes.fi/sv/event/internationella-dagen-for-pressfrihet
LOCATION:Merkki\, Ludviginkatu 2–4\, Helsinki\, Suomi
CATEGORIES:Pressfrihetens dag
ATTACH;FMTTYPE=image/png:https://vikes.fi/wp-content/uploads/2025/04/LVP-Banneri-2.png
END:VEVENT
BEGIN:VEVENT
DTSTART;TZID=Europe/Helsinki:20250408T170000
DTEND;TZID=Europe/Helsinki:20250408T190000
DTSTAMP:20260421T003818
CREATED:20250317T112047Z
LAST-MODIFIED:20250509T064955Z
UID:18626-1744131600-1744138800@vikes.fi
SUMMARY:Heta potäter i mångfaldiga medier: Marthornas vegematpolicy och ''köttupproret'': varför överhettas diskussioner om mat?
DESCRIPTION:Vikes ja Sopiva ry bjuder dig in för att diskutera ett tema som på sista tiden väckt känslor i den offentliga debatten. Mikko Hautakangas från Sopiva ry faciliterar diskussionen. Han forskar i journalism på Tammerfors universitet. Diskussionen är en del av Mera mångfald i media! projektet och är den andra    i serien av diskussionstillfällen som ordnas under våren .  \nSom grund för diskussionen använder vi Sopiva ry:s Kuumat perunat (heta potäter)-nyhetsbrev. I nyhetsbrevet utrönas tvistens grund genom mediekritiskt granskning av journalism om ämnet och genom att känna igen parter\, synvinklar och bästa argument som kommit upp i diskussionen. Vi rekommenderar att du bekantar dig med nyhetsbrevet på förhand\, eftersom det innehåller viktig bakgrundsinformation som stöd för diskussionen. Läs nyhetsbrevet här(på finska).   Du kan prenumerera nyhetsbrevet på Sopivas nätsidor och få de kommande breven direkt till din e-post.  \n🗓 Tid: Tisdag 8.4.2025 kl. 17–19  \n☕ Välkommen kl 16.30 för kaffe och smått tilltugg.  \n📍 Plats: Mediernas museum och arkiv Merkki. Ludvigsgatan 2-4\, 00130 Helsingfors.  Information om tillgänglighet.  \n✍️ Anmälan: https://forms.gle/64yPz7XAuEqSbVfx7   \nVi ber dig förhandsanmäla dig senast 7.4\, men du kan även delta utan att anmäla dig.    \nDiskussionen följer principer för en konstruktiv och respektfull diskussionskultur.  \nJournalister\, medieexperter och alla som är intresserade av temat\, välkommen!
URL:https://vikes.fi/sv/event/mangfaldiga-mediers-heta-potater-marthornas-vegematpolicy-och-kottupproret-varfor-overhettas-diskussioner-om-mat
LOCATION:Merkki\, Ludviginkatu 2–4\, Helsinki\, Suomi
CATEGORIES:Heta potäter i mångsidiga medier
ATTACH;FMTTYPE=image/png:https://vikes.fi/wp-content/uploads/2025/03/Kuumat-perunat-ruokabanneri.png
END:VEVENT
BEGIN:VEVENT
DTSTART;TZID=Europe/Helsinki:20250402T170000
DTEND;TZID=Europe/Helsinki:20250402T190000
DTSTAMP:20260421T003818
CREATED:20250312T130527Z
LAST-MODIFIED:20250516T065430Z
UID:18628-1743613200-1743620400@vikes.fi
SUMMARY:Demokratidrinkar: Anställning av högutbildade journalister med invandrarbakgrund i mediebranschen
DESCRIPTION:Sysselsättning av högutbildade med invandrarbakgrund är även ett problem i mediebranschen.  Varför klarar mediebranschen inte av att behålla högt utbildade kvar i Finland?  \nStiftelsen för media och utveckling (Vikes) organiserar Demokratidrinkar onsdagen 2.4.2025 kl. 17–19 som en del av vårt 20-årsjubileum. Kom med och diskutera mediers mångfald angående anställning av journalister med invandrarbakgrund och lär dig mer om Vikes arbete om ämnet.  Mångfald i medier är en fråga om yttrandefrihet.  \nOm endast få röster hörs i media uteblir en växande del av befolkningen möjlighet att känna igen sig själv i den offentliga debatten eller få sin röst hörd. Detta är ett hot mot demokratin. Hur kan vi göra den finska medierna mer mångfaldiga och stödja anställningen av journalister med invandrarbakgrund?    Personer som inleder diskussionen:  \n–Kristiina Markkanen\, expert i mediefostran och projektedare i Mer mångfald i media nu! -projektet. \n-Journalister så som Botond Vereb-Dér (Ungern) och Nadiia Fedorova(Ukraina)\, som berättar om sina erfarenheter i den finska mediebranschen. \n-Journalisterna Botond Vereb-Dér(Ungern)\, Nadiia Fedorova\, (Ukraina)\, Binar Mustafa (Iran) samt  Flor Salazar\, (Venezuela)\, som berättar om sina erfarenheter i finska mediebranschen. \nVikes är en global solidaritetsorganisation för journalister. Vi stödjer journalister och medier i både Finland och i globala syd och arbetar för en mer mångfaldig\, fri och transparent informatonsspridning.   \n📅Tid: Onsdag 2.4.2025 kl. 17–19 \n  📍 Plats: Bar Typo\, Textens hus\, Fågelviksgatan 3\, 00530 Helsngfors \n  ♿ Tillgänglighet: Bar Typo är på första våningen i Textens hus. Tillgänglighetsinformation hittar du [här].   \n  🎟 Fritt inträde\, drinkar på egen bekostnad.  \nVad är demokratidrinkar?  \nDemokratidrinkar betyder att försvarare och förnyare av demokrati samlas för att diskutera\, nätverka och inspireras tillsammans. Drinkarnas koncept är skapat av  Defend Democracy\, vars syfte är att föra samman försvarare av demokrati och andra intresserade.   Finlands första Demokratiadrinkar organiserades av Sitra på den internationella demokratidagen 15.9.2022.. Evenemangserien har formats till ett fortgående forum för utvecklare och försvarare av demokratin.  \nDemokratidrinkar kordineras av Demo Finland. Du kan prenumerera drinkarnas nyhetsbrev här: https://demofinland.org/tapahtumat-demokratiadrinkit/  \nKom med för att diskutera\, nätverka och förändra världen! 🍸🗞️
URL:https://vikes.fi/sv/event/demokratidrinkar-sysselsattning-av-hogutbildade-journalister-med-invandrarbakgrund-i-mediebranschen
LOCATION:Bar tÿpo\, Lintulahdenkatu 3\, Helsinki
CATEGORIES:Demokratidrinkar
ATTACH;FMTTYPE=application/pdf:https://vikes.fi/wp-content/uploads/2025/03/Demokratiadrinkit-banneri.pdf
END:VEVENT
BEGIN:VEVENT
DTSTART;TZID=Europe/Helsinki:20250206T170000
DTEND;TZID=Europe/Helsinki:20250206T190000
DTSTAMP:20260421T003818
CREATED:20250116T073950Z
LAST-MODIFIED:20250603T071809Z
UID:18631-1738861200-1738868400@vikes.fi
SUMMARY:Heta potäter i mångfaldiga medier: Hur får religion synas i den finska kulturen?
DESCRIPTION:En hurdan roll har religion i den finska kulturen och samhället? Får religion synas på fester\, skolor och i vardagen eller ej? Hur tas både religioners mångfald och ateism i beaktande? Och det viktigaste: hur kan dessa frågor behandlas konstruktivt i offentligheten?     \nVikes ja Sopiva ry bjuder dig inför att diskutera ett tema som på senaste tiden väckt känslor i den offentliga debatten. Som facilitator för diskussionstillfället fungerar Matleena Ylikoski som forskar i mediers mångfald på Tammerfors Universitet.  Diskussionen är en del av Mera mångfald i media! projektet och är den första i serien av diskussionstillfällen som ordnas under våren.  \nSom grund för diskussionen använder vi Sopiva ry:s Kuumat perunat (heta potäter) nyhetsbrev. I nyhetsbrevet utrönas tvistens grund genom att mediekritiskt granska journalism om ämnet och genom att känna igen parter\, synvinklar och bästa argument som kommit upp i diskussionen. Vi rekommenderar att du bekantar dig med nyhetsbrevet på förhand\, eftersom det innehåller viktig bakgrundsinformation som stöd för diskussionen   Du hittar nyhetsbrevet genom denna länk: https://mailchi.mp/e6664e471cb4/kuumatperunat1-18245768?e=359a03bf28 \n Du kan även prenumerera nyhetsbrevet via Sopivas webbsida för att få kommande nyhetsbrev behändigt till din e-post.  \n🗓 Tid: Torsdag 6.2.2025 kl. 17–19  \n☕ Välkommen kl. 16.30 för kaffe och smått tilltugg.  \n📍 Plats: Mediernas museum och arkis Merkki  Tillfället är kostnadsfritt och du behöver inte anmäla dig. Diskussionen följer principer för en konstruktiv och respektfull diskussionskultur.  \nVälkommen journalister\, medieexperter och alla intresserade av temat!  \n 
URL:https://vikes.fi/sv/event/heta-potater-i-mangfaldiga-medier-hur-far-religion-synas-i-finsk-kultur
CATEGORIES:Heta potäter i mångsidiga medier
ATTACH;FMTTYPE=image/png:https://vikes.fi/wp-content/uploads/2025/01/Keskustelutilaisuudet-banneri-2.png
END:VEVENT
BEGIN:VEVENT
DTSTART;TZID=Europe/Helsinki:20230124T170000
DTEND;TZID=Europe/Helsinki:20230124T183000
DTSTAMP:20260421T003818
CREATED:20230118T070630Z
LAST-MODIFIED:20250509T093736Z
UID:18635-1674579600-1674585000@vikes.fi
SUMMARY:Förklarning av vinnaren av priset för utvecklingsjournalismen
DESCRIPTION:Som bäst bidrar journalismen till att förstå världen och dess invecklade fenomen. Tävlingens tema för år 2022 är kvinnor\, flickor och jämställdhet mellan könen.  \nDen oberoende juryn valde fem toppkandidater som tävlade över priset. Kom till Mediernas museum och arkiv Merkki för att höra vem som vinner priset och vem som tilldelas hedersomnämnanden.  \nDe fem toppkandidaterna är: \nAdios Honduras\, Ivar Heinmaa\, Pertti Pesonen & Jouni Koponen / Yle Ulkolinja\nEn visuellt och innehållsmässigt imponerande helhet av författare som följt ämnet i länge. Adios Honduras lyfter fram en synvinkel som inte ofta hörs: i dokumentären ger ordet till bort flyttade personers familjer\, nära och andra som stannat i Honduras. Dokumentären kännetecknas av en stark närvaro\, dokumentären för åskådaren till Centralamerika och hjälper att bättre förstå migration och kvinnors roll.   \nAfgaaninaisen katse -helheten\, Learning together -verkosto / Suomen Kuvalehti\nEn blogg av afghanska kvinnliga journalister är en enorm insats där kvinnorna får ordet som producenter av medieinnehåll och inte enbart som objekt. Afghanistans kvinnliga journalister väljer själv synvinklarna och hur och vad som talas om dem.  \nEn helhet som är producerad i samarbete genom afghanska och finska journalister är en viktig journalistisk handling speciellt nu \, då kvinnorna i Afghanistan tystas ner och utestängs ur den offentliga debatten. I en så fientlig miljö är det nästan otroligt hur de modiga kvinnliga journalisterna fortsätter sitt arbete och höjer sina röster.  \nAfganistan-serien\, Zahra Karimy och arbetsgruppen / Yle Kioski / Tiktok\nDet är mycket viktigt att det produceras innehåll för barn och unga för de kanalerna där de unga är. Yle Kioskis Tiktok-sarja av Afganistan har lockat hundratusentals tittare och introducerat en värld för unga som inte nödvändigtvis annars skulle följa Afganistan. Detta högkvalitativa innehåll kunde intressera även vuxna. Journalisten Zahra Karimy talar lokala språk och är bekant med kulturen\, vilket ger djup åt innehållet.    \nUnder Kenyas regnbåge\, Hanna Nordenswan & Liselott Lindström / Yle Ulkolinja\nEn dokumentär angående köns- och sexuella minoriteters liv belyser deras liv vars ställning är svårast. Den visuellt ambitiösa dokumentären påminner hur människor kan vara diskrimineras på många olika grunder\, men ändå vara aktiva aktörer och inte enbart offer. Berättelsen är levande\, tilltalande och respektfull gentemot sina objekt. En av skaparna var även medlem i juryn\, så hen avstådde från diskussionen i detta avseende.    \nPolisens flykt\, Kaisa Rautaheimo / Helsingin Sanomat\nPolisens flykt är en vackert skriven berättelse\, en lättsam och lättläst personlig berättelse som också har en insiktsfull blick på problemen med utvecklingssamarbete\, särskilt angående hur den lokala verksamhetsmiljön ofta inte är tillräckligt känd och beaktad. Berättelsen innehåller genuin reflektion över vad som har gått fel i utvecklingssamarbetet. Förutom god kritik erbjuder berättelsen även många lösningar. Berättelsen får djup av att författaren har följt temat under en lång tid.   \nPolisens flykt är ett bra exempel på varför det är viktigt att utvecklingsjournalistik utförs också av andra än organisationer i branschen: en oberoende journalist kan även behandla smärtpunkter på ett högkvalitativt och konstruktivt sätt. \nFinlands Röda Kors\, Vikes (Stiftelsen för Kommunikation och Utveckling)\, Helsingin Sanomain Säätiö och Journalistförbundet grundade priset för att lyfta fram journalistiska publikationer med hög kvalitet som behandlar globala teman på ett innovativt sätt\, samt för att öka synligheten och uppskattningen av finsk utvecklingsjournalistik.\n			\n			\n				\n				\n				\n				\n			\n				\n				\n			95771f82e4843c6a6dc3ccd8a83b54df5b448a7bdbeea0be7d7f758f5f8ee90b
URL:https://vikes.fi/sv/event/forklarning-av-vinnaren-av-priset-for-utvecklingsjournalismen
LOCATION:Päivälehden museo\, Ludviginkatu 2-4\, Helsinki\, 00130\, Suomi
ATTACH;FMTTYPE=image/jpeg:https://vikes.fi/wp-content/uploads/2019/05/lehdistönvapaus-yleiso.jpg
END:VEVENT
END:VCALENDAR